BEGIN:VCALENDAR
VERSION:2.0
PRODID:-//ChamberMaster//Event Calendar 2.0//EN
METHOD:PUBLISH
X-PUBLISHED-TTL:P3D
REFRESH-INTERVAL:P3D
CALSCALE:GREGORIAN
BEGIN:VEVENT
DTSTART:20120425T153000Z
DTEND:20120425T180000Z
X-MICROSOFT-CDO-ALLDAYEVENT:FALSE
SUMMARY:Board Meeting April
DESCRIPTION:
X-ALT-DESC;FMTTYPE=text/html:
LOCATION:
UID:e.642.3802
SEQUENCE:3
DTSTAMP:20260423T212036Z
URL:https://business.colleyvillechamber.org/events/details/board-meeting-april-04-25-2012-3802
END:VEVENT

END:VCALENDAR
