BEGIN:VCALENDAR
VERSION:2.0
PRODID:-//ChamberMaster//Event Calendar 2.0//EN
METHOD:PUBLISH
X-PUBLISHED-TTL:P3D
REFRESH-INTERVAL:P3D
CALSCALE:GREGORIAN
BEGIN:VEVENT
DTSTART:20130828T150000Z
DTEND:20130828T180000Z
X-MICROSOFT-CDO-ALLDAYEVENT:FALSE
SUMMARY:Board Meeting August
DESCRIPTION:
X-ALT-DESC;FMTTYPE=text/html:
LOCATION:
UID:e.642.4075
SEQUENCE:3
DTSTAMP:20260422T175039Z
URL:https://business.colleyvillechamber.org/events/details/board-meeting-august-08-28-2013-4075
END:VEVENT

END:VCALENDAR
