BEGIN:VCALENDAR
VERSION:2.0
PRODID:-//ChamberMaster//Event Calendar 2.0//EN
METHOD:PUBLISH
X-PUBLISHED-TTL:P3D
REFRESH-INTERVAL:P3D
CALSCALE:GREGORIAN
BEGIN:VEVENT
DTSTART:20150225T163000Z
DTEND:20150225T190000Z
X-MICROSOFT-CDO-ALLDAYEVENT:FALSE
SUMMARY:Board Meeting February
DESCRIPTION:
X-ALT-DESC;FMTTYPE=text/html:
LOCATION:
UID:e.642.4187
SEQUENCE:3
DTSTAMP:20260421T124238Z
URL:https://business.colleyvillechamber.org/events/details/board-meeting-february-02-25-2015-4187
END:VEVENT

END:VCALENDAR
