BEGIN:VCALENDAR
VERSION:2.0
PRODID:-//ChamberMaster//Event Calendar 2.0//EN
METHOD:PUBLISH
X-PUBLISHED-TTL:P3D
REFRESH-INTERVAL:P3D
CALSCALE:GREGORIAN
BEGIN:VEVENT
DTSTART:20130123T220000Z
DTEND:20130123T233000Z
X-MICROSOFT-CDO-ALLDAYEVENT:FALSE
SUMMARY:Board Meeting January
DESCRIPTION:Monthly Board Meeting
X-ALT-DESC;FMTTYPE=text/html:Monthly Board Meeting
LOCATION:Colleyville Library
UID:e.642.3939
SEQUENCE:3
DTSTAMP:20260423T070300Z
URL:https://business.colleyvillechamber.org/events/details/board-meeting-january-01-23-2013-3939
END:VEVENT

END:VCALENDAR
