BEGIN:VCALENDAR
VERSION:2.0
PRODID:-//ChamberMaster//Event Calendar 2.0//EN
METHOD:PUBLISH
X-PUBLISHED-TTL:P3D
REFRESH-INTERVAL:P3D
CALSCALE:GREGORIAN
BEGIN:VEVENT
DTSTART:20141022T153000Z
DTEND:20141022T180000Z
X-MICROSOFT-CDO-ALLDAYEVENT:FALSE
SUMMARY:Board Meeting October
DESCRIPTION:
X-ALT-DESC;FMTTYPE=text/html:
LOCATION:
UID:e.642.4032
SEQUENCE:3
DTSTAMP:20260421T185614Z
URL:https://business.colleyvillechamber.org/events/details/board-meeting-october-10-22-2014-4032
END:VEVENT

END:VCALENDAR
