BEGIN:VCALENDAR
VERSION:2.0
PRODID:-//ChamberMaster//Event Calendar 2.0//EN
METHOD:PUBLISH
X-PUBLISHED-TTL:P3D
REFRESH-INTERVAL:P3D
CALSCALE:GREGORIAN
BEGIN:VEVENT
DTSTART:20121024T153000Z
DTEND:20121024T180000Z
X-MICROSOFT-CDO-ALLDAYEVENT:FALSE
SUMMARY:Board Meeting October
DESCRIPTION:
X-ALT-DESC;FMTTYPE=text/html:
LOCATION:
UID:e.642.3808
SEQUENCE:3
DTSTAMP:20260423T104835Z
URL:https://business.colleyvillechamber.org/events/details/board-meeting-october-10-24-2012-3808
END:VEVENT

END:VCALENDAR
