BEGIN:VCALENDAR
VERSION:2.0
PRODID:-//ChamberMaster//Event Calendar 2.0//EN
METHOD:PUBLISH
X-PUBLISHED-TTL:P3D
REFRESH-INTERVAL:P3D
CALSCALE:GREGORIAN
BEGIN:VEVENT
DTSTART:20140729T223000Z
DTEND:20140730T010000Z
X-MICROSOFT-CDO-ALLDAYEVENT:FALSE
SUMMARY:Boots and Bling Casino Night Gifting Party
DESCRIPTION:You might wonder\, "What is a gifting party?" It is fun evening where we gather items for the Boots & Bling Casino Night wishbowl packages and silent auction and we need your help! The event is being hosted by Piazza in the Village and sponsored by Sandlin Homes and 91 Design.\n\n\n\nPlease mark your calendars and join North Texas SNAP for our Boots & Bling Casino Night Gifting Party on Tuesday\, July 29\, 2014\, 5:30-8:00 p.m. at Piazza in the Village (Village Ballroom   55 Main Street Colleyville\, TX 76034). Entry into this exclusive event is a donation of an item/service per guest of a $50 minimum value. Guests will enjoy delicious hors d' oeuvres\, one drink ticket per person and a $1\,000 gaming voucher to be used at the gaming tables available that evening courtesy of Metroplex Casino Parties.\n\n\n\nRSVP Required by July 21 to executive.director@ntxsnap.org or call 817-545-9456.
X-ALT-DESC;FMTTYPE=text/html:You might wonder\, &quot\;What is a gifting party?&quot\; It is fun evening where we gather items for the Boots &amp\; Bling Casino Night wishbowl packages and silent auction and we need your help! The event is being hosted by Piazza in the Village and sponsored by Sandlin Homes and 91 Design.<br />\n<br />\nPlease mark your calendars and join North Texas SNAP for our Boots &amp\; Bling Casino Night Gifting Party on Tuesday\, July 29\, 2014\, 5:30-8:00 p.m. at Piazza in the Village (Village Ballroom &ndash\; 55 Main Street Colleyville\, TX 76034). Entry into this exclusive event is a donation of an item/service per guest of a $50 minimum value. Guests will enjoy delicious hors d&#39\; oeuvres\, one drink ticket per person and a $1\,000 gaming voucher to be used at the gaming tables available that evening courtesy of Metroplex Casino Parties.<br />\n<br />\nRSVP Required by July 21 to executive.director@ntxsnap.org or call 817-545-9456.
LOCATION:Village Ballroom 55 Main Street Colleyville\, TX 76034
UID:e.642.6912
SEQUENCE:3
DTSTAMP:20260421T235624Z
URL:https://business.colleyvillechamber.org/events/details/boots-and-bling-casino-night-gifting-party-07-29-2014-6912
END:VEVENT

END:VCALENDAR
