BEGIN:VCALENDAR
VERSION:2.0
PRODID:-//ChamberMaster//Event Calendar 2.0//EN
METHOD:PUBLISH
X-PUBLISHED-TTL:P3D
REFRESH-INTERVAL:P3D
CALSCALE:GREGORIAN
BEGIN:VEVENT
DTSTART:20140927T223000Z
DTEND:20140928T040000Z
X-MICROSOFT-CDO-ALLDAYEVENT:FALSE
SUMMARY:Boots and Bling Gala
DESCRIPTION:This year marks North Texas SNAP's 15th Anniversary of creating and supporting a variety of programs and services for individuals 17 and older living with intellectual disabilities. In 2013\, North Texas SNAP served approximately 200 members with disabilities.\n\n\n\nOur members' unique needs and personal potential are guiding factors as we develop activities and programs to help them achieve the skills necessary to successfully succeed in society.  Members have the opportunity to grow in a positive and caring environment where friendships are nurtured and life skills are developed.\n\n\n\nExpanded Living Program\n\nGirls' Night Out\n\nJ.O.B.S. Club\n\nMen's Club\n\nProject Neighbor\n\nSocial\n\nTransportation\n\nWorkforce Internship Program\n\nWorkshops\n\n\n\nAs we celebrate 15 years of serving individuals 17 and older living with intellectual disabilities\, our goal is to raise $72\,000 at this year's Boots & Bling Casino Night! Your generous donation will help North Texas SNAP support the programs and services listed above and help create a community where people with intellectual disabilities and their families have a network that supports independence\, choice and personal success.
X-ALT-DESC;FMTTYPE=text/html:This year marks North Texas SNAP&rsquo\;s 15th Anniversary of creating and supporting a variety of programs and services for individuals 17 and older living with intellectual disabilities. In 2013\, North Texas SNAP served approximately 200 members with disabilities.<br />\n<br />\nOur members&rsquo\; unique needs and personal potential are guiding factors as we develop activities and programs to help them achieve the skills necessary to successfully succeed in society.&nbsp\; Members have the opportunity to grow in a positive and caring environment where friendships are nurtured and life skills are developed.<br />\n<br />\nExpanded Living Program<br />\nGirls&rsquo\; Night Out<br />\nJ.O.B.S. Club<br />\nMen&rsquo\;s Club<br />\nProject Neighbor<br />\nSocial<br />\nTransportation<br />\nWorkforce Internship Program<br />\nWorkshops<br />\n<br />\nAs we celebrate 15 years of serving individuals 17 and older living with intellectual disabilities\, our goal is to raise $72\,000 at this year&rsquo\;s Boots &amp\; Bling Casino Night! Your generous donation will help North Texas SNAP support the programs and services listed above and help create a community where people with intellectual disabilities and their families have a network that supports independence\, choice and personal success.<br />\n<br />\n&nbsp\;
LOCATION:Hilton Dallas Southlake Town Square 1400 Plaza Place Southlake\, Texas 76092
UID:e.642.6870
SEQUENCE:3
DTSTAMP:20260421T204249Z
URL:https://business.colleyvillechamber.org/events/details/boots-and-bling-gala-09-27-2014-6870
END:VEVENT

END:VCALENDAR
