BEGIN:VCALENDAR
VERSION:2.0
PRODID:-//ChamberMaster//Event Calendar 2.0//EN
METHOD:PUBLISH
X-PUBLISHED-TTL:P3D
REFRESH-INTERVAL:P3D
CALSCALE:GREGORIAN
BEGIN:VEVENT
DTSTART:20240928T223000Z
DTEND:20240929T033000Z
X-MICROSOFT-CDO-ALLDAYEVENT:FALSE
SUMMARY:Boots & Bling Casino Night
DESCRIPTION:Name of event: Boots & Bling Casino Night\n\nLocation/Address of event: Hurst Conference Center 1601 Campus Dr\, Hurst\, TX 76054\n\nDate and time: Saturday\, September 28\, 2024\, 5:30 pm - 10:30 pm\n\nBrief description of the event:\n\nI am thrilled to invite you to the Boots & Bling Casino Night\, the celebration of the year. The event will be at the Hurst Conference Center on Saturday\, September 28\, 2024 (5:30 - 10:30 PM). North Texas SNAP has provided 25 years of service to individuals with intellectual and developmental disabilities in North Texas.\n\n \n\nNorth Texas SNAP receives no federal or state funding\, operating solely on benevolent gifts from fundraising events and caring individuals\, businesses\, organizations\, and foundations. North Texas SNAP has served individuals 17 and older living with intellectual and developmental disabilities in North Texas for 25 years\, a HUGE milestone for this organization. That is why we are getting back in the saddle and bringing back Boots & Bling Casino Night to celebrate.\n\n \n\nThe organization believes that all persons\, regardless of their disability\, have the right to enjoy the same life experiences that others in their communities enjoy. Our members have the same hopes and dreams as their peers living without intellectual disabilities\; they want to have jobs\, friends\, and relationships.\n\n \n\nBecause of supporters like you\, our largest fundraising event allows us to fulfill our MISSION to create and support various programs that assist individuals 17 and older living with intellectual and developmental disabilities in achieving and sustaining full lives.\n\n \n\nThe evening will include a delicious dinner\, dancing\, and casino entertainment. An incredible silent auction and wish bowl raffle\, gift card pull\, and the evening will conclude with a casino raffle. Funds raised will support North Texas SNAP programs and services\, including the Expanded Living Program\, Ambassador Club\, Book Club\, Girls' Night Out\, Jobs & Life Skills Program\, Men's Club\, Project Neighbor\, Social Activities\, and Job Support Program.  \n\nCost: $100 per person\; sponsorship levels are available from $500 - $10\,000 (please see attachment)\n\nWebsite: https://ntxsnap.givingfuel.com/boots-bling-sponsors-2024\n\n--
X-ALT-DESC;FMTTYPE=text/html:<strong><span style="color:black"><span style="font-family:aptos">Name of event:</span></span></strong><span style="color:black"><span style="font-family:aptos">&nbsp\;Boots &amp\; Bling Casino Night</span></span><br />\n<strong><span style="color:black"><span style="font-family:aptos">Location/Address of event:</span></span></strong><span style="color:black"><span style="font-family:aptos">&nbsp\;Hurst Conference Center 1601 Campus Dr\, Hurst\, TX 76054</span></span><br />\n<strong><span style="color:black"><span style="font-family:aptos">Date and time:</span></span></strong><span style="color:black"><span style="font-family:aptos">&nbsp\;Saturday\, September 28\, 2024\, 5:30 pm - 10:30 pm</span></span><br />\n<strong><span style="color:black"><span style="font-family:aptos">Brief description of the event:</span></span></strong><br />\n<span style="color:black"><span style="font-family:aptos">I am thrilled to invite you to the Boots &amp\; Bling Casino Night\, the celebration of the year. The event will be at the Hurst Conference Center on Saturday\, September 28\, 2024 (5:30 - 10:30 PM). North Texas SNAP has provided 25 years of service to individuals with intellectual and developmental disabilities in North Texas.</span></span><br />\n&nbsp\;<br />\n<span style="color:black"><span style="font-family:aptos">North Texas SNAP receives no federal or state funding\, operating solely on benevolent gifts from fundraising events and caring individuals\, businesses\, organizations\, and foundations. North Texas SNAP has served individuals 17 and older living with intellectual and developmental disabilities in North Texas for 25 years\, a HUGE milestone for this organization. That is why we are getting back in the saddle and bringing back Boots &amp\; Bling Casino Night to celebrate.</span></span><br />\n&nbsp\;<br />\n<span style="color:black"><span style="font-family:aptos">The organization believes that all persons\, regardless of their disability\, have the right to enjoy the same life experiences that others in their communities enjoy. Our members have the same hopes and dreams as their peers living without intellectual disabilities\; they want to have jobs\, friends\, and relationships.</span></span><br />\n&nbsp\;<br />\n<span style="color:black"><span style="font-family:aptos">Because of supporters like you\, our largest fundraising event allows us to fulfill our MISSION to create and support various programs that assist individuals 17 and older living with intellectual and developmental disabilities in achieving and sustaining full lives.</span></span><br />\n&nbsp\;<br />\n<span style="color:black"><span style="font-family:aptos">The evening will include a delicious dinner\, dancing\, and casino entertainment. An incredible silent auction and wish bowl raffle\, gift card pull\, and the evening will conclude with a casino raffle. Funds raised will support North Texas SNAP programs and services\, including the Expanded Living Program\, Ambassador Club\, Book Club\, Girls&#39\; Night Out\, Jobs &amp\; Life Skills Program\, Men&#39\;s Club\, Project Neighbor\, Social Activities\, and Job Support Program. &nbsp\;</span></span><br />\n<strong><span style="color:black"><span style="font-family:aptos">Cost:</span></span></strong><span style="color:black"><span style="font-family:aptos">&nbsp\;$100 per person\; sponsorship levels are available from $500 - $10\,000 (please see attachment)</span></span><br />\n<strong><span style="color:black"><span style="font-family:aptos">Website:&nbsp\;</span></span></strong><span style="color:black"><span style="font-family:aptos"><a href="https://ntxsnap.givingfuel.com/boots-bling-sponsors-2024" id="gmail-LPlnk601515">https://ntxsnap.givingfuel.com/boots-bling-sponsors-2024</a></span></span><br />\n--<br />\n&nbsp\;
LOCATION:Hurst Conference Center 1601 Campus Drive Hurst\, TX 76054
UID:e.642.30603
SEQUENCE:3
DTSTAMP:20260422T114140Z
URL:https://business.colleyvillechamber.org/events/details/boots-bling-casino-night-30603
END:VEVENT

END:VCALENDAR
