BEGIN:VCALENDAR
VERSION:2.0
PRODID:-//ChamberMaster//Event Calendar 2.0//EN
METHOD:PUBLISH
X-PUBLISHED-TTL:P3D
REFRESH-INTERVAL:P3D
CALSCALE:GREGORIAN
BEGIN:VEVENT
DTSTART:20121201T130000Z
DTEND:20121201T190000Z
X-MICROSOFT-CDO-ALLDAYEVENT:FALSE
SUMMARY:Breakfast with Santa
DESCRIPTION:The Colleyville Lions Club presents the 17th Annual Breakfast with Santa.  Tickets are $8 in advance or $10 at the door for the entire family.  All proceeds benefit The Colleyville Lions Club Charities and Lions International Entities.
X-ALT-DESC;FMTTYPE=text/html:The Colleyville Lions Club presents the 17th Annual Breakfast with Santa.&nbsp\; Tickets are $8 in advance or $10 at the door for the entire family.&nbsp\; All proceeds benefit The Colleyville Lions Club Charities and Lions International Entities. 
LOCATION:
UID:e.642.5133
SEQUENCE:3
DTSTAMP:20260423T070046Z
URL:https://business.colleyvillechamber.org/events/details/breakfast-with-santa-12-01-2012-5133
END:VEVENT

END:VCALENDAR
