BEGIN:VCALENDAR
VERSION:2.0
PRODID:-//ChamberMaster//Event Calendar 2.0//EN
METHOD:PUBLISH
X-PUBLISHED-TTL:P3D
REFRESH-INTERVAL:P3D
CALSCALE:GREGORIAN
BEGIN:VEVENT
DTSTART:20131214T130000Z
DTEND:20131214T170000Z
X-MICROSOFT-CDO-ALLDAYEVENT:FALSE
SUMMARY:Breakfast with Santa
DESCRIPTION:The Colleyville Lions Club presents the 18th Annual Breakfast with Santa.\n\nSaturday\, Dec. 14 at at Colleyville Center\, 7-11 a.m.\n\n\n\n\n\n\n\nAll proceeds benefit the Colleyville Lions Club Charities and Lions International Entities.
X-ALT-DESC;FMTTYPE=text/html:The Colleyville Lions Club presents the 18th Annual Breakfast with Santa.<br />\nSaturday\, Dec.&nbsp\;14 at at Colleyville Center\, 7-11 a.m.<br />\n<br />\n<br />\n<br />\nAll proceeds benefit the Colleyville Lions Club Charities and Lions International Entities.
LOCATION:
UID:e.642.5965
SEQUENCE:3
DTSTAMP:20260422T114140Z
URL:https://business.colleyvillechamber.org/events/details/breakfast-with-santa-12-14-2013-5965
END:VEVENT

END:VCALENDAR
