BEGIN:VCALENDAR
VERSION:2.0
PRODID:-//ChamberMaster//Event Calendar 2.0//EN
METHOD:PUBLISH
X-PUBLISHED-TTL:P3D
REFRESH-INTERVAL:P3D
CALSCALE:GREGORIAN
BEGIN:VEVENT
DTSTART:20141206T130000Z
DTEND:20141206T170000Z
X-MICROSOFT-CDO-ALLDAYEVENT:FALSE
SUMMARY:Breakfast with Santa - Colleyville Lions Club
DESCRIPTION:Tickets are $8 in advance or $10 at the door for the entire family.  All proceeds benefit the Colleyville Lions Club charities and Lions International entities.\n\nPlease donate one can of food for GRACE or a pair of old eyeglasses for Lions Recycle for Sight.
X-ALT-DESC;FMTTYPE=text/html:Tickets are $8 in advance or $10 at the door for the entire family.&nbsp\; All proceeds benefit the Colleyville Lions Club charities and Lions International entities.<br />\nPlease donate one can of food for GRACE or a pair of old eyeglasses for Lions Recycle for Sight.
LOCATION:Colleyville Center 5301 Riverwalk Drive Colleyville\, TX 76034
UID:e.642.7022
SEQUENCE:3
DTSTAMP:20260421T154017Z
URL:https://business.colleyvillechamber.org/events/details/breakfast-with-santa-colleyville-lions-club-12-06-2014-7022
END:VEVENT

END:VCALENDAR
