BEGIN:VCALENDAR
VERSION:2.0
PRODID:-//ChamberMaster//Event Calendar 2.0//EN
METHOD:PUBLISH
X-PUBLISHED-TTL:P3D
REFRESH-INTERVAL:P3D
CALSCALE:GREGORIAN
BEGIN:VEVENT
DTSTART:20120529T220000Z
DTEND:20120529T233000Z
X-MICROSOFT-CDO-ALLDAYEVENT:FALSE
SUMMARY:Buffalo Cantina Ribbon Cutting
DESCRIPTION:
X-ALT-DESC;FMTTYPE=text/html:
LOCATION:2801 E Southlake Blvd Ste 100 Sou Southlake\, TX 76092
UID:e.642.5042
SEQUENCE:3
DTSTAMP:20260423T200054Z
URL:https://business.colleyvillechamber.org/events/details/buffalo-cantina-ribbon-cutting-05-29-2012-5042
END:VEVENT

END:VCALENDAR
