BEGIN:VCALENDAR
VERSION:2.0
PRODID:-//ChamberMaster//Event Calendar 2.0//EN
METHOD:PUBLISH
X-PUBLISHED-TTL:P3D
REFRESH-INTERVAL:P3D
CALSCALE:GREGORIAN
BEGIN:VEVENT
DTSTART:20150328T150000Z
DTEND:20150329T040000Z
X-MICROSOFT-CDO-ALLDAYEVENT:FALSE
SUMMARY:Bunny Brunch - City of Colleyville
DESCRIPTION:Colleyville Center\n\n5301 Riverwalk Dr.\n\nColleyville\n\n10 a.m. until Noon\n\nTickets:  $5/child and $7/adult
X-ALT-DESC;FMTTYPE=text/html:Colleyville Center<br />\n5301 Riverwalk Dr.<br />\nColleyville<br />\n10 a.m. until Noon<br />\nTickets:&nbsp\; $5/child and $7/adult
LOCATION:
UID:e.642.7538
SEQUENCE:3
DTSTAMP:20260421T113601Z
URL:https://business.colleyvillechamber.org/events/details/bunny-brunch-city-of-colleyville-03-28-2015-7538
END:VEVENT

END:VCALENDAR
