BEGIN:VCALENDAR
VERSION:2.0
PRODID:-//ChamberMaster//Event Calendar 2.0//EN
METHOD:PUBLISH
X-PUBLISHED-TTL:P3D
REFRESH-INTERVAL:P3D
CALSCALE:GREGORIAN
BEGIN:VEVENT
DTSTART:20140109T233000Z
DTEND:20140110T013000Z
X-MICROSOFT-CDO-ALLDAYEVENT:FALSE
SUMMARY:Business After Hours
DESCRIPTION:Networking event.  Free to members\, non-members $5.00. \n\nIf a member brings a guest\, the member will receive $5.00 off the next membership luncheon.
X-ALT-DESC;FMTTYPE=text/html:Networking event.&nbsp\; Free to members\, non-members $5.00.&nbsp\;<br />\nIf a member brings a guest\, the member will receive $5.00 off the next membership luncheon.<br />\n<br />\n
LOCATION:Boi Na Braza Churrascaria Brazilian Steak House 4025 William D. Tate Grapevine\, TX 76051
UID:e.642.5986
SEQUENCE:3
DTSTAMP:20260422T112433Z
URL:https://business.colleyvillechamber.org/events/details/business-after-hours-01-09-2014-5986
END:VEVENT

END:VCALENDAR
