BEGIN:VCALENDAR
VERSION:2.0
PRODID:-//ChamberMaster//Event Calendar 2.0//EN
METHOD:PUBLISH
X-PUBLISHED-TTL:P3D
REFRESH-INTERVAL:P3D
CALSCALE:GREGORIAN
BEGIN:VEVENT
DTSTART:20150212T233000Z
DTEND:20150213T013000Z
X-MICROSOFT-CDO-ALLDAYEVENT:FALSE
SUMMARY:Business After Hours
DESCRIPTION:Whole Foods\n\n4801 Colleyville Blvd.\n\nColleyville\, TX 76034\n\n\n\nPlease join us for a great after hours event with free appetizers and a cash bar for members.  There is a $5.00 charge for non-chamber member attendees.
X-ALT-DESC;FMTTYPE=text/html:Whole Foods<br />\n4801 Colleyville Blvd.<br />\nColleyville\, TX 76034<br />\n<br />\nPlease join us for a great after hours event with free appetizers and a cash bar for members.&nbsp\; There is a $5.00 charge for non-chamber member attendees.
LOCATION:
UID:e.642.6974
SEQUENCE:3
DTSTAMP:20260421T124156Z
URL:https://business.colleyvillechamber.org/events/details/business-after-hours-02-12-2015-6974
END:VEVENT

END:VCALENDAR
