BEGIN:VCALENDAR
VERSION:2.0
PRODID:-//ChamberMaster//Event Calendar 2.0//EN
METHOD:PUBLISH
X-PUBLISHED-TTL:P3D
REFRESH-INTERVAL:P3D
CALSCALE:GREGORIAN
BEGIN:VEVENT
DTSTART:20140213T233000Z
DTEND:20140214T013000Z
X-MICROSOFT-CDO-ALLDAYEVENT:FALSE
SUMMARY:Business After Hours
DESCRIPTION:Free networking event!  Light appetizers and beverages served.
X-ALT-DESC;FMTTYPE=text/html:&nbsp\;Free networking event!&nbsp\; Light appetizers and beverages served.
LOCATION:Worthington National Bank 4814 Colleyville Boulevard Colleyville\, TX 76034 (817) 656-6202 Fax: (817) 656-6206 Click here to edit...
UID:e.642.6822
SEQUENCE:3
DTSTAMP:20260422T084418Z
URL:https://business.colleyvillechamber.org/events/details/business-after-hours-02-13-2014-6822
END:VEVENT

END:VCALENDAR
