BEGIN:VCALENDAR
VERSION:2.0
PRODID:-//ChamberMaster//Event Calendar 2.0//EN
METHOD:PUBLISH
X-PUBLISHED-TTL:P3D
REFRESH-INTERVAL:P3D
CALSCALE:GREGORIAN
BEGIN:VEVENT
DTSTART:20140313T223000Z
DTEND:20140314T003000Z
X-MICROSOFT-CDO-ALLDAYEVENT:FALSE
SUMMARY:Business After Hours
DESCRIPTION:Networking event hosted by Boi Na Braza.  Free to members\, non-members $5.00.  Food provided by Boi Na Braza.  Event sponsored by Jason Ridley-Nationwide Insurance.  Cash bar. \n\n\n\nIf a member brings a guest\, the member will receive $5.00 off the next membership luncheon.
X-ALT-DESC;FMTTYPE=text/html:Networking event hosted&nbsp\;by Boi Na Braza.&nbsp\; Free to members\, non-members $5.00.&nbsp\; Food provided by Boi Na Braza.&nbsp\; Event sponsored by Jason Ridley-Nationwide Insurance.&nbsp\; Cash bar.&nbsp\;<br />\n<br />\nIf a member brings a guest\, the member will receive $5.00 off the next membership luncheon.<br />\n<br />\n
LOCATION:Boi Na Braza 4025 William D. Tate Grapevine\, TX 76051 817-329-5514
UID:e.642.6826
SEQUENCE:3
DTSTAMP:20260422T065701Z
URL:https://business.colleyvillechamber.org/events/details/business-after-hours-03-13-2014-6826
END:VEVENT

END:VCALENDAR
