BEGIN:VCALENDAR
VERSION:2.0
PRODID:-//ChamberMaster//Event Calendar 2.0//EN
METHOD:PUBLISH
X-PUBLISHED-TTL:P3D
REFRESH-INTERVAL:P3D
CALSCALE:GREGORIAN
BEGIN:VEVENT
DTSTART:20140508T223000Z
DTEND:20140509T003000Z
X-MICROSOFT-CDO-ALLDAYEVENT:FALSE
SUMMARY:Business After Hours
DESCRIPTION:Please join us for a great after hours event with free appetizers and a cash bar for members.  There is a $5.00 charge for non-chamber member attendees.
X-ALT-DESC;FMTTYPE=text/html:Please join us for a great after hours event with free appetizers and a cash bar for members.&nbsp\; There is a $5.00 charge for non-chamber member attendees.
LOCATION:Boi Na Braza 4025 William D. Tate Grapevine\, Tx.
UID:e.642.6873
SEQUENCE:3
DTSTAMP:20260422T051736Z
URL:https://business.colleyvillechamber.org/events/details/business-after-hours-05-08-2014-6873
END:VEVENT

END:VCALENDAR
