BEGIN:VCALENDAR
VERSION:2.0
PRODID:-//ChamberMaster//Event Calendar 2.0//EN
METHOD:PUBLISH
X-PUBLISHED-TTL:P3D
REFRESH-INTERVAL:P3D
CALSCALE:GREGORIAN
BEGIN:VEVENT
DTSTART:20130509T223000Z
DTEND:20130510T003000Z
X-MICROSOFT-CDO-ALLDAYEVENT:FALSE
SUMMARY:Business After Hours
DESCRIPTION:Networking event hosted and sponsored by Colleyville Cinema Grill.  Free to members\, non-members $5.00.  Food provided by Cinema.  Cash bar. \n\n\n\nIf a member brings a guest\, the member will receive $5.00 off the next membership luncheon.
X-ALT-DESC;FMTTYPE=text/html:Networking event hosted and sponsored by Colleyville Cinema Grill.&nbsp\; Free to members\, non-members $5.00.&nbsp\; Food provided by Cinema.&nbsp\; Cash bar.&nbsp\;<br />\n<br />\nIf a member brings a guest\, the member will receive $5.00 off the next membership luncheon.<br />\n<br />\n
LOCATION:Colleyville Cinema Grill and IMAX Theatre 5655 Colleyville Blvd. Colleyville\, TX 76034
UID:e.642.5632
SEQUENCE:3
DTSTAMP:20260422T222640Z
URL:https://business.colleyvillechamber.org/events/details/business-after-hours-05-09-2013-5632
END:VEVENT

END:VCALENDAR
