BEGIN:VCALENDAR
VERSION:2.0
PRODID:-//ChamberMaster//Event Calendar 2.0//EN
METHOD:PUBLISH
X-PUBLISHED-TTL:P3D
REFRESH-INTERVAL:P3D
CALSCALE:GREGORIAN
BEGIN:VEVENT
DTSTART:20140612T223000Z
DTEND:20140613T003000Z
X-MICROSOFT-CDO-ALLDAYEVENT:FALSE
SUMMARY:Business After Hours
DESCRIPTION:
X-ALT-DESC;FMTTYPE=text/html:
LOCATION:Ferrari's Italian Villa & Chop House 1200 William D. Tate Grapevine\, TX 76051
UID:e.642.6883
SEQUENCE:3
DTSTAMP:20260422T014327Z
URL:https://business.colleyvillechamber.org/events/details/business-after-hours-06-12-2014-6883
END:VEVENT

END:VCALENDAR
