BEGIN:VCALENDAR
VERSION:2.0
PRODID:-//ChamberMaster//Event Calendar 2.0//EN
METHOD:PUBLISH
X-PUBLISHED-TTL:P3D
REFRESH-INTERVAL:P3D
CALSCALE:GREGORIAN
BEGIN:VEVENT
DTSTART:20141113T233000Z
DTEND:20141114T013000Z
X-MICROSOFT-CDO-ALLDAYEVENT:FALSE
SUMMARY:Business After Hours
DESCRIPTION:Boi Na Braza\n\n4025 William D. Tate\n\nGrapevine\, TX  76051\n\n(817) 329-5514\n\n\n\nPlease join us for a great after hours event with free appetizers and a cash bar for members.  There is a $5.00 charge for non-chamber member attendees.\n\nPrime Lending is proud of our brave men and women fighting for our freedom around the world.  As a way to give a little back this Veterans Day we are sending care packages through Operation Gratitude and we need your help.  We are accepting donations at our office through next week or you can bring your donations to the Colleyville Chamber Business After Hours Mixer.
X-ALT-DESC;FMTTYPE=text/html:<span style="font-family:arial\;">Boi Na Braza<br />\n4025&nbsp\;William D. Tate<br />\nGrapevine\, TX&nbsp\; 76051<br />\n(817) 329-5514<br />\n<br />\nPlease join us for a great after hours event with free appetizers and a cash bar for members.&nbsp\; There is a $5.00 charge for non-chamber member attendees.<br />\nP<span style="color:#1F497D\;">rime Lending is proud of our brave men and women fighting for our freedom around the world.&nbsp\; As a way to give a little back this Veterans Day we are sending care packages through Operation Gratitude and we need your help.&nbsp\; We are accepting donations at our office through next week or you can bring your donations to the Colleyville Chamber Business After Hours Mixer. &nbsp\;</span></span>
LOCATION:
UID:e.642.6954
SEQUENCE:3
DTSTAMP:20260421T171853Z
URL:https://business.colleyvillechamber.org/events/details/business-after-hours-11-13-2014-6954
END:VEVENT

END:VCALENDAR
