BEGIN:VCALENDAR
VERSION:2.0
PRODID:-//ChamberMaster//Event Calendar 2.0//EN
METHOD:PUBLISH
X-PUBLISHED-TTL:P3D
REFRESH-INTERVAL:P3D
CALSCALE:GREGORIAN
BEGIN:VEVENT
DTSTART:20130610T170000Z
DTEND:20130610T180000Z
X-MICROSOFT-CDO-ALLDAYEVENT:FALSE
SUMMARY:Business Builders
DESCRIPTION:Looking to generate business referrals and get to know more people in your community?  Come visit this weekly networking group for fantastic business and personal development opportunities.  You have to eat lunch\, so why not build your network while you do it?  Bring a colleague and enjoy local\, professional business networking!\n\n	 \n\n	\n		Ruggeri's Italian Ristorante\n	\n		32 Village Lane\n	\n		Suite 100\n	\n		Colleyville\, TX
X-ALT-DESC;FMTTYPE=text/html:<div>\n	Looking to generate business referrals and get to know more people in your community?&nbsp\; Come visit this weekly networking group for fantastic business and personal development opportunities.&nbsp\; You have to eat lunch\, so why not build your network while you do it?&nbsp\; Bring a colleague and enjoy local\, professional business networking!</div>\n<div>\n	&nbsp\;</div>\n<div>\n	<div>\n		<span style="font-family: Verdana\;">Ruggeri&rsquo\;s Italian Ristorante</span></div>\n	<div>\n		<span style="font-family: Verdana\;">32 Village Lane</span></div>\n	<div>\n		<span style="font-family: Verdana\;">Suite 100</span></div>\n	<div>\n		<span style="font-family: Verdana\;">Colleyville\,&nbsp\;TX</span></div>\n</div>\n
LOCATION:Ruggeri's Italian Ristorante 32 Village Lane Suite 100 Colleyville\, TX
UID:e.642.206
SEQUENCE:3
DTSTAMP:20260424T083436Z
URL:https://business.colleyvillechamber.org/events/details/business-builders-06-10-2013-206
END:VEVENT

END:VCALENDAR
