BEGIN:VCALENDAR
VERSION:2.0
PRODID:-//ChamberMaster//Event Calendar 2.0//EN
METHOD:PUBLISH
X-PUBLISHED-TTL:P3D
REFRESH-INTERVAL:P3D
CALSCALE:GREGORIAN
BEGIN:VEVENT
DTSTART:20140213T223000Z
DTEND:20140213T231500Z
X-MICROSOFT-CDO-ALLDAYEVENT:FALSE
SUMMARY:Canceled-New Member Orientation
DESCRIPTION:
X-ALT-DESC;FMTTYPE=text/html:
LOCATION:
UID:e.642.6828
SEQUENCE:3
DTSTAMP:20260422T084618Z
URL:https://business.colleyvillechamber.org/events/details/canceled-new-member-orientation-02-13-2014-6828
END:VEVENT

END:VCALENDAR
