BEGIN:VCALENDAR
VERSION:2.0
PRODID:-//ChamberMaster//Event Calendar 2.0//EN
METHOD:PUBLISH
X-PUBLISHED-TTL:P3D
REFRESH-INTERVAL:P3D
CALSCALE:GREGORIAN
BEGIN:VEVENT
DTSTART:20140826T163000Z
DTEND:20140826T180000Z
X-MICROSOFT-CDO-ALLDAYEVENT:FALSE
SUMMARY:CANCELLED - Brown Bag Lunch Series
DESCRIPTION:Breakthrough Discovery Coaching Workshops\n \n\nWondering what all the buzz is about in the DFW area about The Growth Coach DFW and why EVERYONE walks away from our INTERACTIVE coaching workshops with immediate plans for their business and work/life balance?\n\n \n\nBring your lunch and join\n\nThe Growth Coach DFW - Chris Day\n\nAs he introduces you to our proven and guaranteed:\n\n\nStrategic Mindset Process\nWhen & Where: 11:30AM-1:00PM\n\n\n\nAugust 19th - Grapevine\n\n\n\nChamber Office-200 Vine St.\, Grapevine 76051\n\nIn Addition: Guest Speaker - Roy Hogsed (Dealey Media International)\n\n\n\nAugust 26th - Colleyville\n\n\n\nChamber Office-6700 Colleyville Blvd.\, Colleyville 76034\n\nIn Addition: Guest Speaker - Roy Hogsed (Dealey Media International)\n\n\n\nSeptember 9th - Keller/Fort Worth\n\n\n\n5751 Kroger Dr.\, Ste 293\, Fort Worth 76244\n\nIn Addition: Guest Speaker - Aimee Engle (Founder - AE Possibilities)\n\n \n\nQ:  Are you frustrated by your lack of revenue growth or sales team efficiency?\n\n \n\nQ:  Have you been trying to answer "How do I differentiate myself from the competition"?\n\n \n\nQ:  Are you finding that you're spending more time working "IN" the trenches of your business rather than "ON" the strategy of your ENTIRE business?\n\n \n\nQ:  Has your vision of freedom as a small business owner vanished for you to find that you work twice as much as you used to?\n\n \n\nCome and join us for a sample of a real COACHING session! \n\n \n\nLearn the difference between classic motivational "speak at you" presentations and a COACHING workshop where we drive results straight to YOUR business.\n\n \n\nNow is your chance and we have made it hassle free for you. Choose your preferred location\, email to reserve your place and bring your lunch.\n\n\n\nSeats will be limited so RSVP ASAP to:\n\nDanielle Swieter -817-521-6890 or email dswieter@thegrowthcoach.com\n\n\n\nCheck out our website: www.growthcoachdfw.com
X-ALT-DESC;FMTTYPE=text/html:<div style="text-align: center\;">&nbsp\;Breakthrough Discovery Coaching&nbsp\;Workshops</div>\n&nbsp\;<br />\nWondering what all the buzz is about in the DFW area about The Growth Coach DFW and why EVERYONE walks away from our&nbsp\;INTERACTIVE coaching workshops with immediate plans&nbsp\;for their business and work/life balance?<br />\n&nbsp\;<br />\nBring your lunch and join<br />\nThe Growth Coach DFW - Chris Day<br />\nAs he&nbsp\;introduces you to&nbsp\;our proven and guaranteed:\n<div style="text-align: center\;"><br />\n<span style="font-size: 14px\;">Strategic Mindset Process</span></div>\nWhen &amp\; Where: 11:30AM-1:00PM<br />\n<br />\nAugust 19th - Grapevine<br />\n<br />\nChamber Office-200 Vine St.\, Grapevine 76051<br />\nIn Addition: Guest Speaker - Roy Hogsed (Dealey Media International)<br />\n<br />\nAugust 26th - Colleyville<br />\n<br />\nChamber Office-6700 Colleyville Blvd.\, Colleyville 76034<br />\nIn Addition: Guest Speaker - Roy Hogsed (Dealey Media International)<br />\n<br />\nSeptember 9th - Keller/Fort Worth<br />\n<br />\n5751 Kroger Dr.\, Ste 293\, Fort Worth 76244<br />\nIn Addition: Guest Speaker - Aimee Engle (Founder - AE Possibilities)<br />\n&nbsp\;<br />\nQ:&nbsp\; Are you frustrated by your lack of revenue growth or sales team efficiency?<br />\n&nbsp\;<br />\nQ:&nbsp\; Have you been&nbsp\;trying to answer &quot\;How do I differentiate myself from the competition&quot\;?<br />\n&nbsp\;<br />\nQ:&nbsp\; Are you finding that you&#39\;re spending more time working &quot\;IN&quot\; the trenches of your business rather than &quot\;ON&quot\; the strategy of your ENTIRE business?<br />\n&nbsp\;<br />\nQ:&nbsp\; Has your vision of freedom as a small business owner vanished for you to find that you work twice as much as you used to?<br />\n&nbsp\;<br />\nCome and join us for a sample of a real&nbsp\;COACHING session!&nbsp\;<br />\n&nbsp\;<br />\nLearn the difference between classic motivational&nbsp\;&quot\;speak at you&quot\; presentations&nbsp\;and a&nbsp\;COACHING workshop where we drive results straight to YOUR business.<br />\n&nbsp\;<br />\nNow is your chance and we have made it&nbsp\;hassle free&nbsp\;for you. Choose&nbsp\;your preferred&nbsp\;location\,&nbsp\;email&nbsp\;to reserve your place&nbsp\;and bring your lunch.<br />\n<br />\nSeats will be limited so RSVP ASAP to:<br />\nDanielle Swieter -817-521-6890 or email dswieter@thegrowthcoach.com<br />\n<br />\nCheck out our website: www.growthcoachdfw.com<br />\n&nbsp\;<br />\n&nbsp\;<br />\n&nbsp\;
LOCATION:Colleyville Chamber office: 6700 Colleyville Blvd.\, Colleyville\, TX 76034
UID:e.642.6930
SEQUENCE:3
DTSTAMP:20260421T235618Z
URL:https://business.colleyvillechamber.org/events/details/cancelled-brown-bag-lunch-series-08-26-2014-6930
END:VEVENT

END:VCALENDAR
