BEGIN:VCALENDAR
VERSION:2.0
PRODID:-//ChamberMaster//Event Calendar 2.0//EN
METHOD:PUBLISH
X-PUBLISHED-TTL:P3D
REFRESH-INTERVAL:P3D
CALSCALE:GREGORIAN
BEGIN:VEVENT
DTSTART:20150224T230000Z
DTEND:20150225T010000Z
X-MICROSOFT-CDO-ALLDAYEVENT:FALSE
SUMMARY:CANCELLED - Ribbon Cutting - Bahama Buck's
DESCRIPTION:Bahama Bucks Ribbon Cutting\n\n4605 Colleyville Blvd.\n\nColleyville\, TX  76034\n\nOwner:  Smit Shah
X-ALT-DESC;FMTTYPE=text/html:Bahama Bucks Ribbon Cutting<br />\n4605 Colleyville Blvd.<br />\nColleyville\, TX&nbsp\; 76034<br />\nOwner:&nbsp\; Smit Shah
LOCATION:
UID:e.642.7505
SEQUENCE:3
DTSTAMP:20260421T124453Z
URL:https://business.colleyvillechamber.org/events/details/cancelled-ribbon-cutting-bahama-buck-s-02-24-2015-7505
END:VEVENT

END:VCALENDAR
