BEGIN:VCALENDAR
VERSION:2.0
PRODID:-//ChamberMaster//Event Calendar 2.0//EN
METHOD:PUBLISH
X-PUBLISHED-TTL:P3D
REFRESH-INTERVAL:P3D
CALSCALE:GREGORIAN
BEGIN:VEVENT
DTSTART:20131022T170000Z
DTEND:20131022T180000Z
X-MICROSOFT-CDO-ALLDAYEVENT:FALSE
SUMMARY:CANCELLED - Ribbon Cutting Dunkin Donuts
DESCRIPTION:Opening day celebration will start at 5:00 am with 99.5 the Wolf live until 10:00am with Jason Aldine tickets given away every 1/2 hour.  The Dallas Cowboys mascot and cheerleaders will be signing autographs from 8-10.  Chamber ribbon cutting at noon with free iced or hot coffee to be given away from Oct.22nd-Nov.11th.
X-ALT-DESC;FMTTYPE=text/html:Opening day celebration will start at 5:00 am with 99.5 the Wolf live until 10:00am with Jason Aldine tickets given away every 1/2 hour.&nbsp\; The Dallas Cowboys mascot and cheerleaders will be signing autographs from 8-10.&nbsp\; Chamber ribbon cutting at noon with free iced or hot coffee to be given away from Oct.22nd-Nov.11th.
LOCATION:5695 Colleyville Blvd\, Colleyville\, Tx 76034
UID:e.642.5974
SEQUENCE:3
DTSTAMP:20260422T150245Z
URL:https://business.colleyvillechamber.org/events/details/cancelled-ribbon-cutting-dunkin-donuts-10-22-2013-5974
END:VEVENT

END:VCALENDAR
