BEGIN:VCALENDAR
VERSION:2.0
PRODID:-//ChamberMaster//Event Calendar 2.0//EN
METHOD:PUBLISH
X-PUBLISHED-TTL:P3D
REFRESH-INTERVAL:P3D
CALSCALE:GREGORIAN
BEGIN:VEVENT
DTSTART:20120719T220000Z
DTEND:20120719T230000Z
X-MICROSOFT-CDO-ALLDAYEVENT:FALSE
SUMMARY:CANCELLED - Ribbon Cutting for Able Medical Solutions
DESCRIPTION:1802 Industrial Blvd.\n\nColleyville\n\nRep:  Chad Defoor
X-ALT-DESC;FMTTYPE=text/html:1802 Industrial Blvd.<br />\nColleyville<br />\nRep:&nbsp\; Chad Defoor
LOCATION:
UID:e.642.5061
SEQUENCE:3
DTSTAMP:20260423T152550Z
URL:https://business.colleyvillechamber.org/events/details/cancelled-ribbon-cutting-for-able-medical-solutions-07-19-2012-5061
END:VEVENT

END:VCALENDAR
