BEGIN:VCALENDAR
VERSION:2.0
PRODID:-//ChamberMaster//Event Calendar 2.0//EN
METHOD:PUBLISH
X-PUBLISHED-TTL:P3D
REFRESH-INTERVAL:P3D
CALSCALE:GREGORIAN
BEGIN:VEVENT
DTSTART:20121018T220000Z
DTEND:20121019T000000Z
X-MICROSOFT-CDO-ALLDAYEVENT:FALSE
SUMMARY:CANCELLED - Ribbon Cutting Pool Pirates
DESCRIPTION:Ribbon Cutting - Joint Colleyville and Grapevine Chambers\n\n	Pool Pirates\n\n	1609 Hart Street.\, Ste. 100\, Southlake\n\n	817-369-3003\n\n	Valet service provided by Rent A Frog.\n\n	Contact:  Juli Gerrard
X-ALT-DESC;FMTTYPE=text/html:<p>\n	Ribbon Cutting - Joint Colleyville and&nbsp\;Grapevine Chambers<br />\n	Pool Pirates<br />\n	1609 Hart Street.\, Ste. 100\, Southlake<br />\n	817-369-3003<br />\n	Valet service provided by Rent A Frog.<br />\n	Contact:&nbsp\; Juli Gerrard</p>\n
LOCATION:
UID:e.642.5094
SEQUENCE:3
DTSTAMP:20260423T110036Z
URL:https://business.colleyvillechamber.org/events/details/cancelled-ribbon-cutting-pool-pirates-10-18-2012-5094
END:VEVENT

END:VCALENDAR
