BEGIN:VCALENDAR
VERSION:2.0
PRODID:-//ChamberMaster//Event Calendar 2.0//EN
METHOD:PUBLISH
X-PUBLISHED-TTL:P3D
REFRESH-INTERVAL:P3D
CALSCALE:GREGORIAN
BEGIN:VEVENT
DTSTART:20120403T213000Z
DTEND:20120403T223000Z
X-MICROSOFT-CDO-ALLDAYEVENT:FALSE
SUMMARY:CANCELLED - Ribbon Cutting - Sears Home Appliance Showroom
DESCRIPTION:
X-ALT-DESC;FMTTYPE=text/html:
LOCATION:2720 Hwy 121\, Suite 100 Euless\, TX 76039 817-358-2018
UID:e.642.5020
SEQUENCE:3
DTSTAMP:20260423T200158Z
URL:https://business.colleyvillechamber.org/events/details/cancelled-ribbon-cutting-sears-home-appliance-showroom-04-03-2012-5020
END:VEVENT

END:VCALENDAR
