BEGIN:VCALENDAR
VERSION:2.0
PRODID:-//ChamberMaster//Event Calendar 2.0//EN
METHOD:PUBLISH
X-PUBLISHED-TTL:P3D
REFRESH-INTERVAL:P3D
CALSCALE:GREGORIAN
BEGIN:VEVENT
DTSTART:20131102T150000Z
DTEND:20131102T180000Z
X-MICROSOFT-CDO-ALLDAYEVENT:FALSE
SUMMARY:CANCELLED - Veteran's Fair
DESCRIPTION:
X-ALT-DESC;FMTTYPE=text/html:
LOCATION:Grapevine Faith Christian High School Campus 729 Dallas Rd. Grapevine\, TX 76051
UID:e.642.5963
SEQUENCE:3
DTSTAMP:20260422T130518Z
URL:https://business.colleyvillechamber.org/events/details/cancelled-veteran-s-fair-11-02-2013-5963
END:VEVENT

END:VCALENDAR
