BEGIN:VCALENDAR
VERSION:2.0
PRODID:-//ChamberMaster//Event Calendar 2.0//EN
METHOD:PUBLISH
X-PUBLISHED-TTL:P3D
REFRESH-INTERVAL:P3D
CALSCALE:GREGORIAN
BEGIN:VEVENT
DTSTART:20131218T220000Z
DTEND:20131219T000000Z
X-MICROSOFT-CDO-ALLDAYEVENT:FALSE
SUMMARY:CANCELLED - Wednesday's Woman
DESCRIPTION:This event has been cancelled for December due to the holiday.
X-ALT-DESC;FMTTYPE=text/html:<span style="color: rgb(255\, 0\, 0)\;">This event has been cancelled for December due to the holiday.</span>
LOCATION:
UID:e.642.6004
SEQUENCE:3
DTSTAMP:20260422T114720Z
URL:https://business.colleyvillechamber.org/events/details/cancelled-wednesday-s-woman-12-18-2013-6004
END:VEVENT

END:VCALENDAR
