BEGIN:VCALENDAR
VERSION:2.0
PRODID:-//ChamberMaster//Event Calendar 2.0//EN
METHOD:PUBLISH
X-PUBLISHED-TTL:P3D
REFRESH-INTERVAL:P3D
CALSCALE:GREGORIAN
BEGIN:VEVENT
DTSTART:20141210T010000Z
DTEND:20141210T023000Z
X-MICROSOFT-CDO-ALLDAYEVENT:FALSE
SUMMARY:Candlelight Remembrance Service
DESCRIPTION:Please join us in remembering those who are gone\, but not forgotten.\n\nA complimentary personalized ornament wil be our gift to you.\n\nLight refreshments will be served following. There will be Harp music\, congregational singing\, a reading of names for those who've passed\, poetry and a message. Anyone who has suffered a loss is welcome regardless of whether Lucas Funeral Homes served you.
X-ALT-DESC;FMTTYPE=text/html:<strong>Please join us in remembering those who are gone\, but not forgotten.<br />\nA complimentary personalized ornament wil be our gift to you.<br />\nLight refreshments will be served following. There will be Harp music\, congregational singing\, a reading of names for those who&#39\;ve passed\, poetry and a message. Anyone who has suffered a loss is welcome regardless of whether Lucas Funeral Homes served you.&nbsp\;</strong>
LOCATION:Lucas Funeral Home\, 700 West Wall Street\, Grapevine\, TX 76051
UID:e.642.7464
SEQUENCE:3
DTSTAMP:20260421T153335Z
URL:https://business.colleyvillechamber.org/events/details/candlelight-remembrance-service-12-09-2014-7464
END:VEVENT

END:VCALENDAR
