BEGIN:VCALENDAR
VERSION:2.0
PRODID:-//ChamberMaster//Event Calendar 2.0//EN
METHOD:PUBLISH
X-PUBLISHED-TTL:P3D
REFRESH-INTERVAL:P3D
CALSCALE:GREGORIAN
BEGIN:VEVENT
DTSTART;VALUE=DATE:20121014
DTEND;VALUE=DATE:20121022
TRANSP:TRANSPARENT
X-MICROSOFT-CDO-ALLDAYEVENT:TRUE
SUMMARY:CANstruction benefiting Tarrant Area Food Bank
DESCRIPTION:Experience an art display like no other at North East Mall\, October 14 - 21!  CANstruction is a design/build competition creating structures built entirely of canned and packaged foods\, benefiting the Tarrant Area Food Bank.  See a total of 14 displays throughout the mall and vote for your favorite at Guest Services located in Center Court.  Each vote is $1 benefiting the Tarrant Area Food Bank.  Plus\, be sure and bring your canned food donations with you and drop them off at Guest Services - our goal is to collect 100\,000+ lbs. of food\, so please show your support for the Tarrant Area Food Bank.
X-ALT-DESC;FMTTYPE=text/html:Experience an art display like no other at North East Mall\, October 14 - 21!&nbsp\; CANstruction is a design/build competition creating structures built entirely of canned and packaged foods\, benefiting the Tarrant Area Food Bank.&nbsp\; See a total of 14 displays throughout the mall and vote for your favorite at Guest Services located in Center Court.&nbsp\; Each vote is $1 benefiting the Tarrant Area Food Bank.&nbsp\; Plus\, be sure and bring your canned food donations with you and drop them off at Guest Services - our goal is to collect 100\,000+ lbs. of food\, so please show your support for the Tarrant Area Food Bank.
LOCATION:Throughout the Mall
UID:e.642.5107
SEQUENCE:3
DTSTAMP:20260423T110255Z
URL:https://business.colleyvillechamber.org/events/details/canstruction-benefiting-tarrant-area-food-bank-10-14-2012-5107
END:VEVENT

END:VCALENDAR
