BEGIN:VCALENDAR
VERSION:2.0
PRODID:-//ChamberMaster//Event Calendar 2.0//EN
METHOD:PUBLISH
X-PUBLISHED-TTL:P3D
REFRESH-INTERVAL:P3D
CALSCALE:GREGORIAN
BEGIN:VEVENT
DTSTART:20150329T150000Z
DTEND:20150329T170000Z
X-MICROSOFT-CDO-ALLDAYEVENT:FALSE
SUMMARY:Caring Bunny
DESCRIPTION:Join us for a magical event with - CARING BUNNY!\n\n\n\nCreating extraordinary experiences for children with special needs.\n\n\n\nNorth East Mall\n\nCenter Court near Macy's\n\n\n\nSunday\, March 29\n\n10:00 am - 12:00 \n\n\n\nAbilityPath.org and The Noerr Programs are hosting a private photo session exclusively for families of children with special needs. Easter Bunny social stories\, sensory friendly accommodations\, coloring activities\, treats and no waiting in line help make this a morning of treasured memories. The entire family is welcome!
X-ALT-DESC;FMTTYPE=text/html:Join us for a magical event with - CARING BUNNY!<br />\n<br />\nCreating extraordinary experiences for children with special needs.<br />\n<br />\nNorth East Mall<br />\nCenter Court near Macy&#39\;s<br />\n<br />\nSunday\, March 29<br />\n10:00 am - 12:00&nbsp\;<br />\n<br />\nAbilityPath.org&nbsp\;and The Noerr Programs are hosting a private photo session exclusively for families of children with special needs. Easter Bunny social stories\, sensory friendly accommodations\, coloring activities\, treats and no waiting in line help make this a morning of treasured memories. The entire family is welcome!
LOCATION:North East Mall Center Court
UID:e.642.7529
SEQUENCE:3
DTSTAMP:20260421T123403Z
URL:https://business.colleyvillechamber.org/events/details/caring-bunny-03-29-2015-7529
END:VEVENT

END:VCALENDAR
