BEGIN:VCALENDAR
VERSION:2.0
PRODID:-//ChamberMaster//Event Calendar 2.0//EN
METHOD:PUBLISH
X-PUBLISHED-TTL:P3D
REFRESH-INTERVAL:P3D
CALSCALE:GREGORIAN
BEGIN:VEVENT
DTSTART:20140413T150000Z
DTEND:20140413T170000Z
X-MICROSOFT-CDO-ALLDAYEVENT:FALSE
SUMMARY:Caring Bunny
DESCRIPTION:Join us for a magical event with - CARING BUNNY! \n\n\n\nCreating extraordinary experiences for children with special needs.\n\n\n\nAbilityPath.org and The Noerr Programs are hosting a private photo session exclusively for families of children with special needs. Easter Bunny social stories\, sensory friendly accommodations\, coloring activities\, treats and no waiting in line help make this a morning of treasured memories. The entire family is welcome!\n\n\n\nTo make reservations\, visit \n\nNorthEastMallCaringBunny.eventbrite.com
X-ALT-DESC;FMTTYPE=text/html:Join us for a magical event with - CARING BUNNY!&nbsp\;<br />\n<br />\nCreating extraordinary experiences for children with special needs.<br />\n<br />\nAbilityPath.org and The Noerr Programs are hosting a private photo session exclusively for families of children with special needs. Easter Bunny social stories\, sensory friendly accommodations\, coloring activities\, treats and no waiting in line help make this a morning of treasured memories. The entire family is welcome!<br />\n<br />\nTo make reservations\, visit&nbsp\;<br />\nNorthEastMallCaringBunny.eventbrite.com
LOCATION:North East Mall\, Center Court
UID:e.642.6859
SEQUENCE:3
DTSTAMP:20260422T065316Z
URL:https://business.colleyvillechamber.org/events/details/caring-bunny-04-13-2014-6859
END:VEVENT

END:VCALENDAR
