BEGIN:VCALENDAR
VERSION:2.0
PRODID:-//ChamberMaster//Event Calendar 2.0//EN
METHOD:PUBLISH
X-PUBLISHED-TTL:P3D
REFRESH-INTERVAL:P3D
CALSCALE:GREGORIAN
BEGIN:VEVENT
DTSTART:20140920T130000Z
DTEND:20140920T170000Z
X-MICROSOFT-CDO-ALLDAYEVENT:FALSE
SUMMARY:Carter Blood Drive
DESCRIPTION:Blood drive to help aid Carter Blood in their shortage of blood. Each donor with receive a good bag that contains goodies and freebies from local businesses worth around $100.
X-ALT-DESC;FMTTYPE=text/html:Blood drive to help aid Carter Blood in their shortage of blood. Each donor with receive a good bag that contains goodies and freebies from local businesses worth around $100.
LOCATION:104 Grapevine Highway #400 Hurst\, TX 76054
UID:e.642.6935
SEQUENCE:3
DTSTAMP:20260421T205113Z
URL:https://business.colleyvillechamber.org/events/details/carter-blood-drive-09-20-2014-6935
END:VEVENT

END:VCALENDAR
