BEGIN:VCALENDAR
VERSION:2.0
PRODID:-//ChamberMaster//Event Calendar 2.0//EN
METHOD:PUBLISH
X-PUBLISHED-TTL:P3D
REFRESH-INTERVAL:P3D
CALSCALE:GREGORIAN
BEGIN:VEVENT
DTSTART:20130514T170000Z
DTEND:20130514T180000Z
X-MICROSOFT-CDO-ALLDAYEVENT:FALSE
SUMMARY:Cash Mob
DESCRIPTION:Join us as we "mob" a Colleyville business.\n\n\n\nDetails on location coming soon!
X-ALT-DESC;FMTTYPE=text/html:Join us as we &quot\;mob&quot\; a Colleyville business.<br />\n<br />\nDetails on location coming soon!
LOCATION:
UID:e.642.5644
SEQUENCE:3
DTSTAMP:20260422T222512Z
URL:https://business.colleyvillechamber.org/events/details/cash-mob-05-14-2013-5644
END:VEVENT

END:VCALENDAR
