BEGIN:VCALENDAR
VERSION:2.0
PRODID:-//ChamberMaster//Event Calendar 2.0//EN
METHOD:PUBLISH
X-PUBLISHED-TTL:P3D
REFRESH-INTERVAL:P3D
CALSCALE:GREGORIAN
BEGIN:VEVENT
DTSTART:20130725T170000Z
DTEND:20130725T190000Z
X-MICROSOFT-CDO-ALLDAYEVENT:FALSE
SUMMARY:Cash Mob
DESCRIPTION:Citrus Seafood Bistro\n\n5005 Colleyville Blvd.\n\nColleyville
X-ALT-DESC;FMTTYPE=text/html:Citrus Seafood Bistro<br />\n5005 Colleyville Blvd.<br />\nColleyville
LOCATION:
UID:e.642.5708
SEQUENCE:3
DTSTAMP:20260422T193042Z
URL:https://business.colleyvillechamber.org/events/details/cash-mob-07-25-2013-5708
END:VEVENT

END:VCALENDAR
