BEGIN:VCALENDAR
VERSION:2.0
PRODID:-//ChamberMaster//Event Calendar 2.0//EN
METHOD:PUBLISH
X-PUBLISHED-TTL:P3D
REFRESH-INTERVAL:P3D
CALSCALE:GREGORIAN
BEGIN:VEVENT
DTSTART:20140624T170000Z
DTEND:20140624T190000Z
X-MICROSOFT-CDO-ALLDAYEVENT:FALSE
SUMMARY:Cash Mob - Anna's Mexican Grill
DESCRIPTION:Cash Mob at Anna's Mexican Grill\n\n1009 Cheek Sparger Rd.\, Suite 122A\n\nColleyville\, TX  76034\n\n817-281-0747
X-ALT-DESC;FMTTYPE=text/html:Cash Mob at Anna&#39\;s Mexican Grill<br />\n1009 Cheek Sparger Rd.\, Suite 122A<br />\nColleyville\, TX&nbsp\; 76034<br />\n817-281-0747
LOCATION:
UID:e.642.6892
SEQUENCE:3
DTSTAMP:20260422T014536Z
URL:https://business.colleyvillechamber.org/events/details/cash-mob-anna-s-mexican-grill-06-24-2014-6892
END:VEVENT

END:VCALENDAR
