BEGIN:VCALENDAR
VERSION:2.0
PRODID:-//ChamberMaster//Event Calendar 2.0//EN
METHOD:PUBLISH
X-PUBLISHED-TTL:P3D
REFRESH-INTERVAL:P3D
CALSCALE:GREGORIAN
BEGIN:VEVENT
DTSTART:20131207T200000Z
DTEND:20131207T210000Z
X-MICROSOFT-CDO-ALLDAYEVENT:FALSE
SUMMARY:Cash Mob at Elixir Salon & Day Maker
DESCRIPTION:Cash Mob\n\nElixir Salon & Day Maker\n\n85 Village Lane\, Suite 150\n\nColleyville\, TX  76034
X-ALT-DESC;FMTTYPE=text/html:Cash Mob<br />\nElixir Salon &amp\; Day Maker<br />\n85 Village Lane\, Suite 150<br />\nColleyville\, TX&nbsp\; 76034
LOCATION:
UID:e.642.6001
SEQUENCE:3
DTSTAMP:20260422T114147Z
URL:https://business.colleyvillechamber.org/events/details/cash-mob-at-elixir-salon-day-maker-12-07-2013-6001
END:VEVENT

END:VCALENDAR
