BEGIN:VCALENDAR
VERSION:2.0
PRODID:-//ChamberMaster//Event Calendar 2.0//EN
METHOD:PUBLISH
X-PUBLISHED-TTL:P3D
REFRESH-INTERVAL:P3D
CALSCALE:GREGORIAN
BEGIN:VEVENT
DTSTART:20130923T163000Z
DTEND:20130923T183000Z
X-MICROSOFT-CDO-ALLDAYEVENT:FALSE
SUMMARY:Cash Mob at Market Street
DESCRIPTION:1 Year Anniversary Cash Mob event at Market Street\n\n\n\n11:30 a.m. to 1:30 p.m.\n\n5605 Colleyville Blvd.\n\nColleyville\, TX
X-ALT-DESC;FMTTYPE=text/html:1 Year Anniversary Cash Mob event at Market Street<br />\n<br />\n11:30 a.m. to 1:30 p.m.<br />\n5605 Colleyville Blvd.<br />\nColleyville\, TX
LOCATION:
UID:e.642.5752
SEQUENCE:3
DTSTAMP:20260422T175334Z
URL:https://business.colleyvillechamber.org/events/details/cash-mob-at-market-street-09-23-2013-5752
END:VEVENT

END:VCALENDAR
