BEGIN:VCALENDAR
VERSION:2.0
PRODID:-//ChamberMaster//Event Calendar 2.0//EN
METHOD:PUBLISH
X-PUBLISHED-TTL:P3D
REFRESH-INTERVAL:P3D
CALSCALE:GREGORIAN
BEGIN:VEVENT
DTSTART:20140201T170000Z
DTEND:20140201T183000Z
X-MICROSOFT-CDO-ALLDAYEVENT:FALSE
SUMMARY:Cash Mob Colleyville
DESCRIPTION:Join us for a Valentine?s Day Cash Mob Colleyville at Elixir Salon & Day Maker in the Village at Colleyville. Cash Mob Speciales include\; $10 off all pedicures\, book & receive a Brazilian in the month of February & receive a complimentary mini stress fix lotion\, receive a complimentary makeup application with the purchase of any 2 makeup products and Gift Card Special - $150 gift card for only $135. After the mob stroll through the Village at Colleyville for the finest in apparel\, accessories\, gift items\, sweet treats and more and then meet friends and family at a Village eatery for a cash mob lunch. Prize giveaways during the event.
X-ALT-DESC;FMTTYPE=text/html:Join us for a Valentine?s Day Cash Mob Colleyville at Elixir Salon &amp\; Day Maker in the Village at Colleyville. Cash Mob Speciales include\;&nbsp\;$10 off all pedicures\, book &amp\; receive a Brazilian in the month of February &amp\; receive a complimentary mini stress fix lotion\, receive a complimentary makeup application with the purchase of any 2 makeup products and&nbsp\;Gift Card Special - $150 gift card for only $135. After the mob stroll through the Village at Colleyville for the finest in apparel\, accessories\, gift items\, sweet treats and more and then meet friends and family at a Village eatery for a cash mob lunch. Prize giveaways during the event.
LOCATION:Elixir Salon & Day Maker 85 Village Lane\, Suite 150
UID:e.642.6620
SEQUENCE:3
DTSTAMP:20260422T084824Z
URL:https://business.colleyvillechamber.org/events/details/cash-mob-colleyville-02-01-2014-6620
END:VEVENT

END:VCALENDAR
