BEGIN:VCALENDAR
VERSION:2.0
PRODID:-//ChamberMaster//Event Calendar 2.0//EN
METHOD:PUBLISH
X-PUBLISHED-TTL:P3D
REFRESH-INTERVAL:P3D
CALSCALE:GREGORIAN
BEGIN:VEVENT
DTSTART:20130326T170000Z
DTEND:20130326T170000Z
X-MICROSOFT-CDO-ALLDAYEVENT:FALSE
SUMMARY:Cash Mob Colleyville
DESCRIPTION:Monthly Cash Mobs are planned to encourage people to eat/shop at local businesses.
X-ALT-DESC;FMTTYPE=text/html:<div style="color: gray\;">\n	<em>Monthly Cash Mobs are planned to encourage people to eat/shop at local businesses.&nbsp\; </em></div>\n
LOCATION:Red Brick Pizza 5615 Colleyville Blvd. Colleyville\, TX 76034
UID:e.642.5611
SEQUENCE:3
DTSTAMP:20260423T034143Z
URL:https://business.colleyvillechamber.org/events/details/cash-mob-colleyville-03-26-2013-5611
END:VEVENT

END:VCALENDAR
