BEGIN:VCALENDAR
VERSION:2.0
PRODID:-//ChamberMaster//Event Calendar 2.0//EN
METHOD:PUBLISH
X-PUBLISHED-TTL:P3D
REFRESH-INTERVAL:P3D
CALSCALE:GREGORIAN
BEGIN:VEVENT
DTSTART:20150428T170000Z
DTEND:20150428T180000Z
X-MICROSOFT-CDO-ALLDAYEVENT:FALSE
SUMMARY:Cash Mob Colleyville
DESCRIPTION:Mark your calendars for the next Colleyville Cash Mob. We'll be at The Londoner Pub & Grill on Tuesday\, Apr. 28\, starting at noon. Join us\, bring a friend\, and meet some new friends at the Mob. Cash mobs are open to the general public. See you there! To become a member of the mob\, just show up prepared to buy your lunch\, enjoy good company and support a local business.
X-ALT-DESC;FMTTYPE=text/html:Mark your calendars for the next Colleyville Cash Mob. We&#39\;ll be at The Londoner Pub &amp\; Grill on Tuesday\, Apr. 28\, starting at noon. Join us\, bring a friend\, and meet some new friends at the Mob. Cash mobs are open to the general public. See you there! To become a member of the mob\, just show up prepared to buy your lunch\, enjoy good company and support a local business.
LOCATION:The Londoner Pub & Grill
UID:e.642.7778
SEQUENCE:3
DTSTAMP:20260421T111708Z
URL:https://business.colleyvillechamber.org/events/details/cash-mob-colleyville-04-28-2015-7778
END:VEVENT

END:VCALENDAR
