BEGIN:VCALENDAR
VERSION:2.0
PRODID:-//ChamberMaster//Event Calendar 2.0//EN
METHOD:PUBLISH
X-PUBLISHED-TTL:P3D
REFRESH-INTERVAL:P3D
CALSCALE:GREGORIAN
BEGIN:VEVENT
DTSTART:20141029T170000Z
DTEND:20141029T180000Z
X-MICROSOFT-CDO-ALLDAYEVENT:FALSE
SUMMARY:Cash Mob Colleyville
DESCRIPTION:Rice King Express\n\nNew Location:  3809 Colleyville Blvd.\, Ste. A\n\nColleyville TX
X-ALT-DESC;FMTTYPE=text/html:Rice King Express<br />\nNew Location:&nbsp\; 3809 Colleyville Blvd.\, Ste. A<br />\nColleyville TX
LOCATION:
UID:e.642.7027
SEQUENCE:3
DTSTAMP:20260421T204643Z
URL:https://business.colleyvillechamber.org/events/details/cash-mob-colleyville-10-29-2014-7027
END:VEVENT

END:VCALENDAR
