BEGIN:VCALENDAR
VERSION:2.0
PRODID:-//ChamberMaster//Event Calendar 2.0//EN
METHOD:PUBLISH
X-PUBLISHED-TTL:P3D
REFRESH-INTERVAL:P3D
CALSCALE:GREGORIAN
BEGIN:VEVENT
DTSTART:20140731T160000Z
DTEND:20140731T180000Z
X-MICROSOFT-CDO-ALLDAYEVENT:FALSE
SUMMARY:Cash Mob - Colleyville Farmer's Market
DESCRIPTION:5409 Colleyville Blvd.\n\nColleyville\, TX  76034
X-ALT-DESC;FMTTYPE=text/html:5409 Colleyville Blvd.<br />\nColleyville\, TX&nbsp\; 76034
LOCATION:
UID:e.642.6916
SEQUENCE:3
DTSTAMP:20260421T235848Z
URL:https://business.colleyvillechamber.org/events/details/cash-mob-colleyville-farmer-s-market-07-31-2014-6916
END:VEVENT

END:VCALENDAR
