BEGIN:VCALENDAR
VERSION:2.0
PRODID:-//ChamberMaster//Event Calendar 2.0//EN
METHOD:PUBLISH
X-PUBLISHED-TTL:P3D
REFRESH-INTERVAL:P3D
CALSCALE:GREGORIAN
BEGIN:VEVENT
DTSTART:20130411T220000Z
DTEND:20130411T230000Z
X-MICROSOFT-CDO-ALLDAYEVENT:FALSE
SUMMARY:Cash Mob Colleyville - Rockin' Haute
DESCRIPTION:Please help us mob this community focused business that is celebrating its 2nd anniversary and also opening the Village at Colleyville's first art gallery this month - Peace of Art at Rockin' Haute.
X-ALT-DESC;FMTTYPE=text/html:<div style="color: gray\;">\n	<span style="font-size: 12pt\;"><span style="font-family: franklin gothic book\,sans-serif\;"><span style="color: rgb(51\, 51\, 51)\;">Please help us mob this community focused business that is celebrating its 2<sup>nd</sup> anniversary and also opening the Village at Colleyville&rsquo\;s first art gallery this month - Peace of Art at Rockin&rsquo\; Haute.</span></span></span><br />\n	<br />\n	&nbsp\;</div>\n
LOCATION:Rockin' Haute Consignment Studio 88 Village Lane\, Suite 100 Colleyville\, TX 76034
UID:e.642.5628
SEQUENCE:3
DTSTAMP:20260423T002156Z
URL:https://business.colleyvillechamber.org/events/details/cash-mob-colleyville-rockin-haute-04-11-2013-5628
END:VEVENT

END:VCALENDAR
