BEGIN:VCALENDAR
VERSION:2.0
PRODID:-//ChamberMaster//Event Calendar 2.0//EN
METHOD:PUBLISH
X-PUBLISHED-TTL:P3D
REFRESH-INTERVAL:P3D
CALSCALE:GREGORIAN
BEGIN:VEVENT
DTSTART:20140430T170000Z
DTEND:20140430T180000Z
X-MICROSOFT-CDO-ALLDAYEVENT:FALSE
SUMMARY:Cash Mob-Foreman's
DESCRIPTION:
X-ALT-DESC;FMTTYPE=text/html:
LOCATION:Foreman's\, Inc. 3801 Colleyville Blvd. Colleyville\, TX 76034 (817) 281-7252
UID:e.642.6871
SEQUENCE:3
DTSTAMP:20260422T065511Z
URL:https://business.colleyvillechamber.org/events/details/cash-mob-foreman-s-04-30-2014-6871
END:VEVENT

END:VCALENDAR
