BEGIN:VCALENDAR
VERSION:2.0
PRODID:-//ChamberMaster//Event Calendar 2.0//EN
METHOD:PUBLISH
X-PUBLISHED-TTL:P3D
REFRESH-INTERVAL:P3D
CALSCALE:GREGORIAN
BEGIN:VEVENT
DTSTART:20140923T170000Z
DTEND:20140923T220000Z
X-MICROSOFT-CDO-ALLDAYEVENT:FALSE
SUMMARY:Cash Mob - JR's Steak & Grill
DESCRIPTION:Join the mob for lunch at JR's Steak and Grill to celebrate Chef Todd Phillips winning Fort Worth Magazine's Top Chef award.\n\n\n\nCash Mob at JR's Steak & Grill\n\n5400 Highway 121\n\nColleyville\, TX  76034
X-ALT-DESC;FMTTYPE=text/html:Join the mob for lunch at JR&#39\;s Steak and Grill to celebrate Chef Todd Phillips winning Fort Worth Magazine&#39\;s Top Chef award.<br />\n<br />\nCash Mob at JR&#39\;s Steak &amp\; Grill<br />\n5400 Highway 121<br />\nColleyville\, TX&nbsp\; 76034
LOCATION:
UID:e.642.6950
SEQUENCE:3
DTSTAMP:20260421T205528Z
URL:https://business.colleyvillechamber.org/events/details/cash-mob-jr-s-steak-grill-09-23-2014-6950
END:VEVENT

END:VCALENDAR
